BEGIN:VCALENDAR
VERSION:2.0
PRODID:-//Brahma Kumaris Vallabh Vidyanagar - ECPv4.9.3.2//NONSGML v1.0//EN
CALSCALE:GREGORIAN
METHOD:PUBLISH
X-WR-CALNAME:Brahma Kumaris Vallabh Vidyanagar
X-ORIGINAL-URL:https://vidyanagar.bk.ooo
X-WR-CALDESC:Events for Brahma Kumaris Vallabh Vidyanagar
BEGIN:VEVENT
DTSTART;TZID=UTC+0:20191222T100000
DTEND;TZID=UTC+0:20191222T130000
DTSTAMP:20260422T053207
CREATED:20191208T054250Z
LAST-MODIFIED:20191208T054808Z
UID:449-1577008800-1577019600@vidyanagar.bk.ooo
SUMMARY:22-12-2019 Silver Jubilee Celebrations & Inauguration of World of silence by Dadi Ratan Mohini Ji
DESCRIPTION: \n  \nSunday 22-12-2019 9:45 am\nAkshar Farm\,Gopi-Vidyanagar Rd.\,Anand \n
URL:https://vidyanagar.bk.ooo/event/22-12-2019-silver-jubilee-celebrations-inauguration-of-world-of-silence-by-dadi-ratan-mohini-ji/
LOCATION:Akshar Farm\,Gopi-\, Vidyanagar Rd.\,Anand\, Vidyanagar\, Gujarat\, 388120\, India
ATTACH;FMTTYPE=image/jpeg:https://vidyanagar.bk.ooo/wp-content/uploads/sites/211/2019/12/IMG-20191203-WA0143.jpg
END:VEVENT
END:VCALENDAR